BEGIN:VCALENDAR
PRODID:NingEventWidget-v1
VERSION:2.0
METHOD:PUBLISH
BEGIN:VEVENT
UID:6409057:Event:1158269
DTSTAMP:20260426T010334Z
SUMMARY:Ver (2021) Película Online Subtitulada Castellano
DESCRIPTION:ver(...)pelicula completa\nver(...)pelicula completa\nver(
 ...)pelicula completa\nver(...)pelicula completa\nver(...)pelicula com
 pleta\nver(...)pelicula completa\nver(...)pelicula completa\nver(...)p
 elicula completa\nver(...)pelicula completa\nver(...)pelicula completa
 \nver(...)pelicula completa\nver(...)pelicula completa\nver(...)pelicu
 la completa\nver(...)pelicula completa\nver(...)pelicula completa\n\nZ
 ie voor meer informatie https://beterhbo.ning.com/events/ver-2021-pel-
 cula-online-subtitulada-castellano-1
DTSTART:20210928T160000Z
DTEND:20210928T170000Z
CATEGORIES:ver, completa
LOCATION:united states
WEBSITE:
URL:
CONTACT:
ORGANIZER;CN="fans jery":https://beterhbo.ning.com/profile/fansjery
ATTACH;FMTTYPE="image/jpeg":
ATTENDEE;ROLE=REQ-PARTICIPANT;PARTSTAT=ACCEPTED;RSVP=TRUE;CN="fans jer
 y":https://beterhbo.ning.com/profile/fansjery
END:VEVENT
END:VCALENDAR
